BEGIN:VCALENDAR
PRODID:-//Trumba Corporation//Trumba Calendar Services 0.11.25615//EN
VERSION:2.0
CALSCALE:GREGORIAN
X-WR-CALNAME:Adirondack Mountain Club|Binghamton Chapter
X-WR-TIMEZONE:America/New_York
METHOD:PUBLISH
BEGIN:VTIMEZONE
TZID:America/New_York
BEGIN:STANDARD
TZOFFSETFROM:-0400
TZOFFSETTO:-0500
TZNAME:EST
DTSTART:20071104T020000
RRULE:FREQ=YEARLY;BYMONTH=11;BYDAY=1SU
END:STANDARD
BEGIN:DAYLIGHT
TZOFFSETFROM:-0500
TZOFFSETTO:-0400
TZNAME:EDT
DTSTART:20070311T020000
RRULE:FREQ=YEARLY;BYMONTH=3;BYDAY=2SU
END:DAYLIGHT
END:VTIMEZONE
BEGIN:VEVENT
SUMMARY:Cornell Lab of Ornithology visit
LOCATION:Cornell Ornithology lab
DTSTART;VALUE=DATE:20260502
DTEND;VALUE=DATE:20260503
X-MICROSOFT-CDO-ALLDAYEVENT:TRUE
X-TRUMBA-CUSTOMFIELD;NAME="Event Type";ID=21;TYPE=number:General Events
X-TRUMBA-CUSTOMFIELD;NAME="Hosted By";ID=37962;TYPE=CustomAsset:Binghamt
 on Chapter
X-TRUMBA-CUSTOMFIELD;NAME="Event Type";ID=37960;TYPE=CustomAsset:Events
X-TRUMBA-CUSTOMFIELD;NAME="Leader Phone #";ID=37967;TYPE=SingleLine:(607
 ) 321-3287
X-TRUMBA-CUSTOMFIELD;NAME="Leader Email";ID=37968;TYPE=Email:<a href="ma
 ilto:dabailey.408@gmail.com" target="_blank" rel="noopener">dabailey.408
 @gmail.com</a>
DTSTAMP:20260417T083043Z
DESCRIPTION:Hosted By: Binghamton Chapter<br>Event Type: Events<br>Leade
 r Phone #: (607) 321-3287<br>Leader Email: dabailey.408@gmail.com<br><br
 >We plan to experience new interactive indoor exhibits and view world cl
 ass art in the morning\, have lunch nearby\, and (optionally) hike a 2-h
 our\, three-mile loop trail with 252 ft elevation gain in the Monkey Run
  Natural Area&#160\;of the Cornell Botanic Gardens. We&#39\;ll then retu
 rn to the Binghamton area - an hour&#39\;s drive away.
CATEGORIES:Binghamton Chapter
UID:http://uid.trumba.com/event/201287928
X-TRUMBA-LINK:https://adk.org/chapter/binghamton/?trumbaEmbed=view%3deve
 nt%26eventid%3d201287928
END:VEVENT
BEGIN:VEVENT
SUMMARY:5/6/2026 Presentation by Tony Goodwin - Chenango Town Hall
LOCATION:Chenango Town Hall\, &#160\;1529 NY-12\, Binghamton\, NY 13901
DTSTART;TZID=America/New_York:20260506T190000
DTEND;TZID=America/New_York:20260506T210000
X-MICROSOFT-CDO-ALLDAYEVENT:FALSE
URL:https://binghamtonadk.org/
X-TRUMBA-CUSTOMFIELD;NAME="Event Type";ID=21;TYPE=number:General Events
X-TRUMBA-CUSTOMFIELD;NAME="Hosted By";ID=37962;TYPE=CustomAsset:Binghamt
 on Chapter
X-TRUMBA-CUSTOMFIELD;NAME="Event Type";ID=37960;TYPE=CustomAsset:Present
 ation
X-TRUMBA-CUSTOMFIELD;NAME="Leader Phone #";ID=37967;TYPE=SingleLine:6078
 218564
X-TRUMBA-CUSTOMFIELD;NAME="Leader Email";ID=37968;TYPE=Email:<a href="ma
 ilto:nickgretzinger@gmail.com" target="_blank" rel="noopener">nickgretzi
 nger@gmail.com</a>
DTSTAMP:20260421T145514Z
DESCRIPTION:Hosted By: Binghamton Chapter<br>Event Type: Presentation<br
 >Leader Phone #: 6078218564<br>Leader Email: nickgretzinger@gmail.com<br
 >Link: https://binghamtonadk.org/<br><br>Tony Goodwin is a highly respec
 ted author and figure in the Adirondack community\,&#160\;renowned for h
 is extensive work in trail maintenance\, historical preservation\, and o
 utdoor guiding.
CATEGORIES:Binghamton Chapter
UID:http://uid.trumba.com/event/201366512
X-TRUMBA-LINK:https://adk.org/chapter/binghamton/?trumbaEmbed=view%3deve
 nt%26eventid%3d201366512
END:VEVENT
BEGIN:VEVENT
SUMMARY:Hawkins Pond National Trails Day Event
LOCATION:HAWKINS POND NATURE AREA<br>224 Scouten Hill Road<br>Windsor\, 
 NY 13865
DTSTART;VALUE=DATE:20260606
DTEND;VALUE=DATE:20260607
X-MICROSOFT-CDO-ALLDAYEVENT:TRUE
X-TRUMBA-CUSTOMFIELD;NAME="Event Type";ID=21;TYPE=number:Outings
X-TRUMBA-CUSTOMFIELD;NAME="Hosted By";ID=37962;TYPE=CustomAsset:Binghamt
 on Chapter
X-TRUMBA-CUSTOMFIELD;NAME="Region";ID=44823;TYPE=CustomAsset:Southern Ti
 er
X-TRUMBA-CUSTOMFIELD;NAME="Activity Category";ID=37961;TYPE=CustomAsset:
 Trail Work/Conservation
X-TRUMBA-CUSTOMFIELD;NAME="Trip&nbsp;rating";ID=37963;TYPE=CustomAsset:C
X-TRUMBA-CUSTOMFIELD;NAME="Leader";ID=37966;TYPE=SingleLine:Cindy Gretzi
 nger
X-TRUMBA-CUSTOMFIELD;NAME="Leader Email";ID=37968;TYPE=Email:<a href="ma
 ilto:cgzinger@gmail.com" target="_blank" rel="noopener">cgzinger@gmail.c
 om</a>
X-TRUMBA-CUSTOMFIELD;NAME="Leader Phone #";ID=37967;TYPE=SingleLine:6078
 219100
X-TRUMBA-CUSTOMFIELD;NAME="Mileage";ID=69765;TYPE=SingleLine:5
X-TRUMBA-CUSTOMFIELD;NAME="Elevation Gain";ID=69766;TYPE=SingleLine:600 
 ft
X-TRUMBA-CUSTOMFIELD;NAME="Nearest Emergency Medical Facility";ID=69687;
 TYPE=MultiLine:Barnes Kasson Hospital\, 2872 Turnpike St\, Susquehanna\,
  PA 18847<br>Guthrie Lourdes Hospital\, 169 Riverside Dr\, Binghamton\, 
 NY 13905
X-TRUMBA-CUSTOMFIELD;NAME="Nearest Park Ranger/Dispatch Number";ID=69688
 ;TYPE=SingleLine:DEC Region 7 Sherburne\, NY 1-833-697-7264
DTSTAMP:20260421T152346Z
DESCRIPTION:Hosted By: Binghamton Chapter<br>Region: Southern Tier<br>Ac
 tivity Category: Trail Work/Conservation<br>Trip&nbsp\;rating: C<br>Lead
 er: Cindy Gretzinger<br>Leader Email: cgzinger@gmail.com<br>Leader Phone
  #: 6078219100<br>Mileage: 5<br>Elevation Gain: 600 ft<br>Nearest Emerge
 ncy Medical Facility: Barnes Kasson Hospital\, 2872 Turnpike St\, Susque
 hanna\, PA 18847\nGuthrie Lourdes Hospital\, 169 Riverside Dr\, Binghamt
 on\, NY 13905<br>Nearest Park Ranger/Dispatch Number: DEC Region 7 Sherb
 urne\, NY 1-833-697-7264<br><br><strong>We&#39\;ll be removing fallen tr
 ee branches from the trails\, as well as clearing them of overhanging br
 anches and cutting back other encroaching growth.&#160\; Anything too bi
 g to handle with loppers and bow saws will be identified for the county 
 personnel to take care of.&#160\; &#160\;We&#39\;ll also be replacing mi
 ssing trail markers nailed to trees.&#160\;&#160\;</strong>
CATEGORIES:Binghamton Chapter
UID:http://uid.trumba.com/event/201382688
X-TRUMBA-LINK:https://adk.org/chapter/binghamton/?trumbaEmbed=view%3deve
 nt%26eventid%3d201382688
END:VEVENT
END:VCALENDAR
