BEGIN:VCALENDAR
PRODID:-//Trumba Corporation//Trumba Calendar Services 0.11.25615//EN
VERSION:2.0
CALSCALE:GREGORIAN
X-WR-CALNAME:College of Architecture + Planning|Games Division
X-WR-TIMEZONE:America/Denver
METHOD:PUBLISH
BEGIN:VTIMEZONE
TZID:America/Denver
BEGIN:STANDARD
TZOFFSETFROM:-0600
TZOFFSETTO:-0700
TZNAME:MST
DTSTART:20071104T020000
RRULE:FREQ=YEARLY;BYMONTH=11;BYDAY=1SU
END:STANDARD
BEGIN:DAYLIGHT
TZOFFSETFROM:-0700
TZOFFSETTO:-0600
TZNAME:MDT
DTSTART:20070311T020000
RRULE:FREQ=YEARLY;BYMONTH=3;BYDAY=2SU
END:DAYLIGHT
END:VTIMEZONE
BEGIN:VEVENT
SUMMARY:Division of Games LAUNCH!
LOCATION:Building 72 (BLDG 72)
DTSTART;TZID=America/Denver:20260422T140000
DTEND;TZID=America/Denver:20260422T190000
X-MICROSOFT-CDO-ALLDAYEVENT:FALSE
URL:https://games.utah.edu/news/games-launch-2026/
X-TRUMBA-CUSTOMFIELD;NAME="Event Type";ID=21;TYPE=number:University of U
 tah - Campus Events
X-TRUMBA-CUSTOMFIELD;NAME="Event Categories";ID=29184;TYPE=CustomAsset:P
 ublic Event
X-TRUMBA-CUSTOMFIELD;NAME="Campus Locations";ID=29044;TYPE=CustomAsset:B
 uilding 72 (BLDG 72)
X-TRUMBA-CUSTOMFIELD;NAME="Event image";ID=40;TYPE=Image:<a href="https:
 //www.trumba.com/i/DgB5VBZ2dDWQTD6utt4TqL3H.jpg" target="_blank" rel="no
 opener" title="https://www.trumba.com/i/DgB5VBZ2dDWQTD6utt4TqL3H.jpg">ww
 w.trumba.com&#8230\;</a>
X-TRUMBA-CUSTOMFIELD;NAME="Contact Name";ID=26279;TYPE=SingleLine:Cami S
 heridan
X-TRUMBA-CUSTOMFIELD;NAME="Contact Phone";ID=26280;TYPE=SingleLine:801-5
 87-6168
X-TRUMBA-CUSTOMFIELD;NAME="Contact Email";ID=26281;TYPE=Email:<a href="m
 ailto:cami.sheridan@utah.edu" target="_blank" rel="noopener">cami.sherid
 an@utah.edu</a>
X-TRUMBA-CUSTOMFIELD;NAME="Campus Wide Event";ID=29306;TYPE=CustomAsset:
 Yes
DTSTAMP:20260420T143443Z
DESCRIPTION:Event Categories: Public Event<br>Campus Locations: Building
  72 (BLDG 72)<br>Contact Name: Cami Sheridan<br>Contact Phone: 801-587-6
 168<br>Contact Email: cami.sheridan@utah.edu<br>Campus Wide Event: Yes<b
 r>Link: https://games.utah.edu/news/games-launch-2026/<br><br>Utah Games
  proudly presents Launch! The event is where we celebrate our graduating
  student&#39\;s hard work (from both undergraduate and graduate programs
 ) and a chance to show off their final games. Games shown at Launch have
  taken a full year to create and are the result of student teams that ma
 nage every aspect of the game creation process. In addition\, we&#8217\;
 ll feature games from our alternative controller graduate course with cr
 eative hardware and software designs for game controllers!&#160\;<br><br
 >Please join us for a chance to play our student games\, and of course g
 et to see (and eat) one of the amazing cakes that we are famous for!
CATEGORIES:Games Division
IMAGE;VALUE=URI:https://www.trumba.com/i/DgB5VBZ2dDWQTD6utt4TqL3H.jpg
UID:http://uid.trumba.com/event/201550131
X-TRUMBA-LINK:https://games.utah.edu/calendar/?trumbaEmbed=view%3devent%
 26eventid%3d201550131
END:VEVENT
END:VCALENDAR
